BEGIN:VCALENDAR
VERSION:2.0
CALSCALE:GREGORIAN
PRODID:-//MyApp//Calendar 1.0//EN
BEGIN:VEVENT
METHOD:PUBLISH
UID:54593@regionalniportaly.cz
DTSTAMP:20260425T133914Z
DTSTART;VALUE=DATE:20250521
DTEND;VALUE=DATE:20250522
SUMMARY:PubQuiz v NA JEDNO
DESCRIPTION:Zítra 21.5.2025 další PubQuiz Start v 18:30 Rezervace ZDE: https://www.pubquiz.cz/event?id=13569
LOCATION:Rosice
END:VEVENT
END:VCALENDAR