BEGIN:VCALENDAR
VERSION:2.0
CALSCALE:GREGORIAN
PRODID:-//MyApp//Calendar 1.0//EN
BEGIN:VEVENT
METHOD:PUBLISH
UID:54534@regionalniportaly.cz
DTSTAMP:20260425T133854Z
DTSTART;VALUE=DATE:20250606
DTEND;VALUE=DATE:20250607
SUMMARY:Tvořivá dílna - Keramika
DESCRIPTION:Hlava si odpočine a ruce vytvoří krásnou věc
LOCATION:Rosice
END:VEVENT
END:VCALENDAR