BEGIN:VCALENDAR
VERSION:2.0
CALSCALE:GREGORIAN
PRODID:-//MyApp//Calendar 1.0//EN
BEGIN:VEVENT
METHOD:PUBLISH
UID:54446@regionalniportaly.cz
DTSTAMP:20260425T134031Z
DTSTART;VALUE=DATE:20250607
DTEND;VALUE=DATE:20250608
SUMMARY:Floristický kurz - vazba kytic
DESCRIPTION:Kurz vás seznámí se základy floristiky\, technikami vazby\, výběrem květin i péčí o ně. Vhodné pro začátečníky i všechny\, kdo milují květiny a tvoření. Z kurzu si odnesete nejen vlastnoručně uvázanou kytici\, ale i radost z tvořivé práce a inspiraci pro další aranžmá. Veškerý materiál je zajištěn.\n \nKdy: sobota 7. 6. 2025 od 9 do 12 hodinKde: komunitní dílna Kamínky (Kaštanová ev. č. 231)Cena: 1 000 Kč - v ceně je zahrnutý veškerý materiál a odborné vedení floristky\n \nRegistrace je nutná z důvodu omezené kapacity - přihlašování je spuštěno přes klientské centrum. Více informací: otevrena.dilna@svcrosice.cz\, + 420 604 844 884
LOCATION:Rosice
END:VEVENT
END:VCALENDAR