BEGIN:VCALENDAR
VERSION:2.0
CALSCALE:GREGORIAN
PRODID:-//MyApp//Calendar 1.0//EN
BEGIN:VEVENT
METHOD:PUBLISH
UID:54336@regionalniportaly.cz
DTSTAMP:20260425T153516Z
DTSTART;VALUE=DATE:20250524
DTEND;VALUE=DATE:20250525
SUMMARY:Závody horských kol - Babicke eMTéBé
DESCRIPTION: Závody horských kol pro všechny věkové kategorie v Babicich u Rosic - neváhejte s REGISTRACI\, ať víme co nejdříve počet účastníků a je o vás hezky postaráno. NENECHÁVEJTE TO NA POSLEDNÍ CHVÍLI JAK JE ČASTO ZVYKEM\, DÍKY. 👍🤩
LOCATION:Babice u Rosic
END:VEVENT
END:VCALENDAR