BEGIN:VCALENDAR
VERSION:2.0
CALSCALE:GREGORIAN
PRODID:-//MyApp//Calendar 1.0//EN
BEGIN:VEVENT
METHOD:PUBLISH
UID:54134@regionalniportaly.cz
DTSTAMP:20260425T122328Z
DTSTART;VALUE=DATE:20250720
DTEND;VALUE=DATE:20250721
SUMMARY:Rodinné systemické konstelace s prvky NLP
DESCRIPTION:POZVÁNKA NA RODINNÉ SYSTEMICKÉ KONSTELACE S PRVKY NLP V ROSICÍCH U BRNA - I MUŽI JSOU VÍTANI!\n🌀 Rodinné konstelace – 20. 7. 2025 | Rosice u Brna 🌀Pozvánka na hluboké a transformační setkání\nZvu tě na den\, kdy se můžeš dotknout souvislostí\, které možná zatím zůstávaly skryté.Rodinné konstelace jsou bezpečný prostor pro to\, co potřebuje být uviděno\, uznáno a proměněno.\n🔸 KDY:  20. července 2025🔸 ČAS: 13:00–19:00 (příchod od 12:45)🔸 KDE: FyzioTouch\, Palackého náměstí 46\, Rosice u Brna🔸 CENA:– 1400 Kč za postavení vlastní konstelace (omezený počet míst)– 1000 Kč za účast bez vlastního postavení(ženy z retreatu 1260 Kč)\n✨ Rodinné konstelace – příběhy\, které se dějí v tichu ✨Každý z nás si někdy říká:„Proč se mi tohle pořád opakuje?“„Proč mě to tak bolí?“„Kdy jsem se vlastně ztratila?“\nV konstelacích se tyto otázky nerozebírají hlavou.Ukazují se. V pohybu. V těle. V pocitu.A to\, co bylo roky neviditelné\, najednou začne dávat smysl.\n🧡 Přijít můžeš s konkrétním tématem – vztahy\, zdraví\, vnitřní tlak\, opakující se situace – nebo jen s pocitem\, že něco uvnitř volá po změně.\n✨ Co tě čeká:– podpůrný kruh\, kde se nikdo nesoudí– možnost hlubokého vhledu i bez postavení vlastní konstelace– čas pro sebe\, zpomalení a vnitřní návrat\n \nTěším se na tebe\,Katy ♡
LOCATION:Rosice
END:VEVENT
END:VCALENDAR