BEGIN:VCALENDAR
VERSION:2.0
CALSCALE:GREGORIAN
PRODID:-//MyApp//Calendar 1.0//EN
BEGIN:VEVENT
METHOD:PUBLISH
UID:54133@regionalniportaly.cz
DTSTAMP:20260425T153506Z
DTSTART;VALUE=DATE:20250528
DTEND;VALUE=DATE:20250529
SUMMARY:Ženský kruh na téma matky a dcery
DESCRIPTION:Vztah mezi matkou a dcerou v sobě nese sílu\, hloubku\, ale často i nevyřčené bolesti\, touhy a očekávání. Je to pouto\, které nás formuje víc\, než si možná uvědomujeme – ať už jsme v roli dcery\, matky\, nebo obojího.Možná nejsme všechny matkami\, ale všechny jsme dcerami.A právě v tomto vztahu často leží hluboké kořeny našich emocí\, vzorců i zranění.\nZvu tě do ženského kruhu\, kde vytvoříme bezpečný prostor pro sdílení\, léčení a porozumění.Dotkneme se témat jako je přijetí\, odpuštění\, rodová linie\, očekávání\, i touha po blízkosti.Nebudeš v tom sama – možná zjistíš\, že mnoho z nás v sobě nosí podobné příběhy.\n💛 Kruh je otevřen všem ženám\, bez ohledu na věk či životní roli.Přijď taková\, jaká jsi.\n📅 KDY: Středa 28. 5. 2025🕠 ČAS: 17:30–19:30📍 KDE: Rahnův dům – Fyzio Touch\, Palackého nám. 46\, Rosice u Brna💸 CENA: 400 Kč👭 Kapacita: max. 10 žen\n \nMoc moc se na vás ženy těším!Katy
LOCATION:Rosice
END:VEVENT
END:VCALENDAR