BEGIN:VCALENDAR
VERSION:2.0
CALSCALE:GREGORIAN
PRODID:-//MyApp//Calendar 1.0//EN
BEGIN:VEVENT
METHOD:PUBLISH
UID:53958@regionalniportaly.cz
DTSTAMP:20260421T032801Z
DTSTART;VALUE=DATE:20250524
DTEND;VALUE=DATE:20250525
SUMMARY:Family Food Festival a Letní noc ve Zbýšově
DESCRIPTION:Srdečně vás zveme na historicky první ročník Family Food Festivalu CZ ve Zbýšově\, který se uskuteční v sobotu 24. května 2025 v areálu Simson.\nČeká vás celodenní hostina plná výborného jídla\, osvěžujících drinků\, skvělé atmosféry pro celou rodinu – a večer navíc Letní noc s živou hudbou a tancem pod širým nebem.\nFestival je po celý den do 19 hodin zdarma\, vstupenka na Letní noc činí 120 Kč.\nAkci pro více infromací sledujte na Facebooku.\n 
LOCATION:Zbýšov
END:VEVENT
END:VCALENDAR