BEGIN:VCALENDAR
VERSION:2.0
CALSCALE:GREGORIAN
PRODID:-//MyApp//Calendar 1.0//EN
BEGIN:VEVENT
METHOD:PUBLISH
UID:53857@regionalniportaly.cz
DTSTAMP:20260422T205301Z
DTSTART;VALUE=DATE:20251019
DTEND;VALUE=DATE:20251020
SUMMARY:Život v přítomnosti
DESCRIPTION:Těšit se můžete na inspirativní povídání Sandry Pogodové a Tomáše Lukavce. Dozvíte se o jejich zážitcích z cest a pobytů v Thajsku\, Tibetu\, na Srí Lance nebo v poušti. Sdílení a poučení z osobních příběhů ze života a&nbsp\;vzájemné inspirování se na cestě k duchovním přeměnám. Hlavně vše s humorem a nadhledem\, tak jak je těmto dvěma úžasňákům vlastní.&nbsp\;Besedy hudebně doladí ostravský skladatel\, muzikant - hudební astronaut&nbsp\;STANDA KLAPUCH&nbsp\;nebo partnerské zpívající duo&nbsp\;Malí - Petr Malý a Paya.-&nbsp\;SANDRA POGODOVÁ&nbsp\;je&nbsp\;herečka a zpěvačka\, která se věnuje osobnímu rozvoji\, transformaci\, seberealizaci a všemu kolem šťastného žití. Sandra nahrává inspirativní videa na svůj YouTube kanál: Sandra Pogodová Official: "ÚHEL POHLEDU"&nbsp\;&nbsp\;Sandra napsala se svým´ tatínkem Richardem Pogodou dvě velice úspěšné knihy&nbsp\;Hoď se do pogody&nbsp\;a&nbsp\;Buď v pogodě.-&nbsp\;TOMÁŠ LUKAVEC&nbsp\;je spisovatel na cestách a nezávislý brandingový konzultant. Vytvořil během 3 let vzdělávací agenturu s milionovými obraty\, které se krátce ve svých 30 letech vzdal a vydal se putovat s batohem na zádech do světa. Vše\, co se naučil\, vepsal do své knižní prvotiny&nbsp\;Jsi značka?!\, která se krátce po vydání stala bestsellerem. Kniha čerpá ze zkušeností ve spolupráci s více jak 84 000 klienty\, a to online i offline. Napsal další velmi úspěšné knihy&nbsp\;Strážce majáku&nbsp\;nebo beletriální triler s prvky mystéria&nbsp\;Návrat do neznáma. Poslední Tomova kniha se jmenuje&nbsp\;Vědma z Dálie. Tomáš dnes a denně inspiruje svým obsahem více jak 180 000 fanoušků na sociálních sítích\, volně píše\, přednáší nebo spí :-)"YouTube""Zákony bohatství".-&nbsp\;STANDA KLAPUCH - hudební astronautStanda Klapuch je hudebník a skladatel\, který prostřednictvím své hudby vytváří prostor pro odpočinek a relaxaci. Čerpá inspiraci především v přírodě a skrze svou hudbu vyjadřuje klid a harmonii\, které v ní nachází.Při jeho vystoupeních se můžete ponořit do světa klavíru\, jinotajných zvuků\, které vytváří pomocí různých nástrojů\, hlasu\, looperu a rytmických prvků.Jeho hudba je jako klíč\, který odemyká dveře do jiných dimenzí a umožňuje vstoupit do magického světa\, kde se čas zastavuje\, a pozemské starosti se rozplývají…&nbsp\;Máte se na co těšit.&nbsp\;
LOCATION:Zbýšov
END:VEVENT
END:VCALENDAR