BEGIN:VCALENDAR
VERSION:2.0
CALSCALE:GREGORIAN
PRODID:-//MyApp//Calendar 1.0//EN
BEGIN:VEVENT
METHOD:PUBLISH
UID:53479@regionalniportaly.cz
DTSTAMP:20260425T153221Z
DTSTART;VALUE=DATE:20250427
DTEND;VALUE=DATE:20250428
SUMMARY:Procházka s Lesní myslí pro rodiče
DESCRIPTION:I rodiče dětí občas potřebují polední klid a kvalitní čas v lese. Zrelaxovat se tak\, že se jim obnoví síly\, aby dále mohli kráčet životem radostně\, uvolněně\, cítit sami sebe\, tudíž i druhé. Přijďte v neděli na 2hod všímavou procházku s Lesní myslí v Rosické oboře\, se startem a koncem u LK Přeslička. Lesní mysl je finský koncept pro relaxaci v přírodě\, přináší sebepéči\, seberozvoj\, psychohygienu\, prevenci proti vyhoření\, obnovuje imunitu a pomáhá v životě nacházet to dobré. Více info na webu.
LOCATION:Rosice
END:VEVENT
END:VCALENDAR