BEGIN:VCALENDAR
VERSION:2.0
CALSCALE:GREGORIAN
PRODID:-//MyApp//Calendar 1.0//EN
BEGIN:VEVENT
METHOD:PUBLISH
UID:53439@regionalniportaly.cz
DTSTAMP:20260425T173318Z
DTSTART;VALUE=DATE:20250518
DTEND;VALUE=DATE:20250519
SUMMARY:Dětský blešák
DESCRIPTION:Při jarním úklidu se v dětských pokojích najde spousta hraček a věcí\, které by ještě mohli potěšit někoho dalšího. Zarezervujte si místo (zdarma)\, vezměte deku a hračky\, které chcete poslat dál a objevte s dětmi kouzlo blešího trhu.
LOCATION:Rosice
END:VEVENT
END:VCALENDAR