BEGIN:VCALENDAR
VERSION:2.0
CALSCALE:GREGORIAN
PRODID:-//MyApp//Calendar 1.0//EN
BEGIN:VEVENT
METHOD:PUBLISH
UID:53423@regionalniportaly.cz
DTSTAMP:20260423T021803Z
DTSTART;VALUE=DATE:20251011
DTEND;VALUE=DATE:20251012
SUMMARY:Horkýže Slíže & Cocotte Minute
DESCRIPTION:Dvě kapely / jedno podiumHorkýže SlížeCocotte Minute&nbsp\;Představovat snad ani nemá smysl. Jenom se těšit!
LOCATION:Rosice
END:VEVENT
END:VCALENDAR