BEGIN:VCALENDAR
VERSION:2.0
CALSCALE:GREGORIAN
PRODID:-//MyApp//Calendar 1.0//EN
BEGIN:VEVENT
METHOD:PUBLISH
UID:53333@regionalniportaly.cz
DTSTAMP:20260423T032506Z
DTSTART;VALUE=DATE:20250420
DTEND;VALUE=DATE:20250421
SUMMARY:Velikonoční hledání zvířátek
DESCRIPTION:Velikonoční hledání zvířátek\n \nJARO to je symbol nového života. Přijďte hledat malá zvířátka do Zbýšova \n \nKdy: neděle 20. dubna 2025\n9 - 16 hodin\nKde: Škvárové hřiště ve Zbýšově\n \nNa místě bude několik velikonočních dílniček. \nVelikonoční dílničky: 10 - 40 Kč (cena za použitý materiál). \n \n \nNa STARTU dostanete mapu s místy\, kde budou schovaná jarní mláďátka.\n \nMilé děti\, \nPředstavte si\, naši kamarádi se nemohli dočkat jara. Tak dlouho na něj po zimě čekali\, až ho málem prospali. Pomoz najít a probudit zvířátka\, aby nezaspali tak krásný čas. Příroda začíná vonět a žít. \nVašim úkolem bude najít zvířátka a splnit úkol od zajíce.\nPřinést zvířátka do cíle výměnou na vás bude čekat odměna.\n \nSkvělou zábavu!  \n \nHledání zvířátek: \nRegistrace od 9:30 hodin na škvárovém hřišti do 15 hodin\nVstupné 100\,- (v této hodnotě děti obdrží balíček v cíli stezky).\n 
LOCATION:Zbýšov
END:VEVENT
END:VCALENDAR