BEGIN:VCALENDAR
VERSION:2.0
CALSCALE:GREGORIAN
PRODID:-//MyApp//Calendar 1.0//EN
BEGIN:VEVENT
METHOD:PUBLISH
UID:53327@regionalniportaly.cz
DTSTAMP:20260425T153307Z
DTSTART;VALUE=DATE:20250503
DTEND;VALUE=DATE:20250504
SUMMARY:Dětská tvořívá dílna - Den Matek
DESCRIPTION:Dárek ke dni Matek? nejvíc potěší s láskou vyrobený dáreček. Co pro tentokrát poslat tatínka s dětmi\, aby byl dáreček pro mámu překvapením 🙂
LOCATION:Rosice
END:VEVENT
END:VCALENDAR