BEGIN:VCALENDAR
VERSION:2.0
CALSCALE:GREGORIAN
PRODID:-//MyApp//Calendar 1.0//EN
BEGIN:VEVENT
METHOD:PUBLISH
UID:53197@regionalniportaly.cz
DTSTAMP:20260425T153409Z
DTSTART;VALUE=DATE:20250423
DTEND;VALUE=DATE:20250424
SUMMARY:Indiánské muzicírování
DESCRIPTION:Na malé indiány se v kašpárkovském vigvamu (herně) těší squaw Zdenča Makovská. Program pro malé indiány od 3 do 7 let bez doprovodu rodičů.
LOCATION:Rosice
END:VEVENT
END:VCALENDAR