BEGIN:VCALENDAR
VERSION:2.0
CALSCALE:GREGORIAN
PRODID:-//MyApp//Calendar 1.0//EN
BEGIN:VEVENT
METHOD:PUBLISH
UID:53194@regionalniportaly.cz
DTSTAMP:20260425T171630Z
DTSTART;VALUE=DATE:20250409
DTEND;VALUE=DATE:20250410
SUMMARY:PubQuiz v NA JEDNO
DESCRIPTION:9.4.2025 v 18:30 dojdi na PubQuiz v restauraci NA JEDNO.\nVstupné 80Kč.\nSpousta zábavy a nové znalosti.
LOCATION:Rosice
END:VEVENT
END:VCALENDAR