BEGIN:VCALENDAR
VERSION:2.0
CALSCALE:GREGORIAN
PRODID:-//MyApp//Calendar 1.0//EN
BEGIN:VEVENT
METHOD:PUBLISH
UID:53036@regionalniportaly.cz
DTSTAMP:20260425T181721Z
DTSTART;VALUE=DATE:20260114
DTEND;VALUE=DATE:20260115
SUMMARY:HANKA - je naprosto nezbytné
DESCRIPTION:Koncert naplněný hity úžasné zpěvačky Hany Zagorové!Uslyšíte Hančiny nezapomenutelné písně v aranžích\, v jakých je zpívala nejraději. Hity jako je Studánko stříbrná nebo Maluj zase obrázky uslyšíte za doprovodu kapely Boom!Band Jiřího Dvořáka\, která Hanku od roku 2010 doprovázela na všech koncertech.V podání zpěvačky Evy Kleinové zazní Hančiny nejoblíbenější skladby\, které si české publikum zamilovalo.Nenechte si ujít tento jedinečný hudební zážitek!
LOCATION:Zbýšov
END:VEVENT
END:VCALENDAR