BEGIN:VCALENDAR
VERSION:2.0
CALSCALE:GREGORIAN
PRODID:-//MyApp//Calendar 1.0//EN
BEGIN:VEVENT
METHOD:PUBLISH
UID:52888@regionalniportaly.cz
DTSTAMP:20260423T032636Z
DTSTART;VALUE=DATE:20250404
DTEND;VALUE=DATE:20250405
SUMMARY:Jak se nám to mohlo stát!?
DESCRIPTION:Po pětadvaceti letech od legendárních Pelíšků konečně znovu v kinech rozehrají Miroslav Donutil a Bolek Polívka pořádnou komedii.
LOCATION:Zbýšov
END:VEVENT
END:VCALENDAR