BEGIN:VCALENDAR
VERSION:2.0
CALSCALE:GREGORIAN
PRODID:-//MyApp//Calendar 1.0//EN
BEGIN:VEVENT
METHOD:PUBLISH
UID:52874@regionalniportaly.cz
DTSTAMP:20260425T133838Z
DTSTART;VALUE=DATE:20250530
DTEND;VALUE=DATE:20250531
SUMMARY:Zpátky do práce?
DESCRIPTION:Návrat do práce\, změna místa nebo oboru… Jak se připravit na důležitý krok.\nNa workshopu se dozvíš :\n: jak napsat CV na míru: jak na sebeprezentaci (já\, s.r.o. a další): jak na pohovory včetně reakcí na diskriminační otázky: další možnosti\, kde a jak hledat zaměstnání\, projekt\, brigádu\, kombinaci více pozic
LOCATION:Rosice
END:VEVENT
END:VCALENDAR