BEGIN:VCALENDAR
VERSION:2.0
CALSCALE:GREGORIAN
PRODID:-//MyApp//Calendar 1.0//EN
BEGIN:VEVENT
METHOD:PUBLISH
UID:52873@regionalniportaly.cz
DTSTAMP:20260425T172601Z
DTSTART;VALUE=DATE:20250516
DTEND;VALUE=DATE:20250517
SUMMARY:Objev své IKIGAI
DESCRIPTION:Přemýšlíte kam dál nejen v pracovní životě?\nNa zážitkovém workshopu zmapuješ své silné stránky\, talenty\, přirozené nastavení tvé osobnosti. Odneseš si výsledky testů profesního směřování a v čem vidíš smysl své práce
LOCATION:Rosice
END:VEVENT
END:VCALENDAR