BEGIN:VCALENDAR
VERSION:2.0
CALSCALE:GREGORIAN
PRODID:-//MyApp//Calendar 1.0//EN
BEGIN:VEVENT
METHOD:PUBLISH
UID:52624@regionalniportaly.cz
DTSTAMP:20260425T154816Z
DTSTART;VALUE=DATE:20250425
DTEND;VALUE=DATE:20250426
SUMMARY:KONCERT Budoár staré dámy + Betonovej bez
DESCRIPTION:Po letech hibernace ožije bývalý ležácký sklep rosického pivovaru. Prostředí jako stvořené pro koncert alternativních kapel. Přijďte si užít otvírák nekomerčního kulturního kvasu do punkového prostředí. Vstupenky na koncert zakoupíte v předprodeji online i v kanceláři KIC Rosice za 150 Kč nebo v místě konání za 250 Kč. Pivo bude!!!Na viděnou se těší pivovarníci od Bobří řeky.
LOCATION:Rosice
END:VEVENT
END:VCALENDAR