BEGIN:VCALENDAR
VERSION:2.0
CALSCALE:GREGORIAN
PRODID:-//MyApp//Calendar 1.0//EN
BEGIN:VEVENT
METHOD:PUBLISH
UID:52616@regionalniportaly.cz
DTSTAMP:20260425T171539Z
DTSTART;VALUE=DATE:20250417
DTEND;VALUE=DATE:20250418
SUMMARY:Velikonoční příměšťák
DESCRIPTION:Přidejte se k nám na Velikonoční příměšťák\, kde si společně užijeme kreativní a zábavný den plný jarní atmosféry. Čeká nás pestrý program\, při kterém si děti vyzkouší různé velikonoční tradice a tvořivé aktivit.\n \nPříprava jarních pomazánek – naučíme se\, jak si připravit chutné a zdravé dobroty z čerstvých surovin.Tvorba velikonočních dekorací – vyrobíme si krásné ozdoby ze samotvrdnoucí hmoty.Barvení vajec – vyzkoušíme různé techniky zdobení kraslic.Procházka s venkovními aktivitami – užijeme si pohyb na čerstvém vzduchu a jarní hry v přírodě.Malování velikonočních přání s kuřátky – vytvoříme veselá přáníčka pro naše blízké.\n \nKdy: čtvrtek 17. dubna 2025 od 8 do 16 hodinKde: budova SVČ RubikoVhodné pro: děti od 7 do 12 letCena: 500 KčPřihlašování: klientské centrumVíce informací: kafonkova@svcrosice.cz
LOCATION:Rosice
END:VEVENT
END:VCALENDAR