BEGIN:VCALENDAR
VERSION:2.0
CALSCALE:GREGORIAN
PRODID:-//MyApp//Calendar 1.0//EN
BEGIN:VEVENT
METHOD:PUBLISH
UID:52505@regionalniportaly.cz
DTSTAMP:20260425T191957Z
DTSTART;VALUE=DATE:20250326
DTEND;VALUE=DATE:20250327
SUMMARY:PubQuiz v NA JEDNO
DESCRIPTION:Další PubQuiz v NA JEDNO.\nDojdi se pobavit.\nRegistrace ZDE: https://www.pubquiz.cz/event?id=13326
LOCATION:Rosice
END:VEVENT
END:VCALENDAR