BEGIN:VCALENDAR
VERSION:2.0
CALSCALE:GREGORIAN
PRODID:-//MyApp//Calendar 1.0//EN
BEGIN:VEVENT
METHOD:PUBLISH
UID:52478@regionalniportaly.cz
DTSTAMP:20260425T154909Z
DTSTART;VALUE=DATE:20250411
DTEND;VALUE=DATE:20250412
SUMMARY:Coworking s hlídáním dětí nebo bez hlídání
DESCRIPTION:Každé pondělí a pátek dopoledne budou děti (od 1\,5 roku) s hlídací tetou v Kašpárkovské herně. A rodiče naleznou ve sdíleném pracovním prostoru klidné a příjemné prostředí pro práci nebo vzdělávání. Pro zájemce budou k zapůjčení i 2 notebooky.  
LOCATION:Rosice
END:VEVENT
END:VCALENDAR