BEGIN:VCALENDAR
VERSION:2.0
CALSCALE:GREGORIAN
PRODID:-//MyApp//Calendar 1.0//EN
BEGIN:VEVENT
METHOD:PUBLISH
UID:52477@regionalniportaly.cz
DTSTAMP:20260425T171642Z
DTSTART;VALUE=DATE:20250426
DTEND;VALUE=DATE:20250427
SUMMARY:Za zvířátky na Okrouhlík
DESCRIPTION:Sejdeme se u vodárny na konci Rosic (výjezd z Rosic směrem na Litostrov).\nVycházka ke Dni Země je dlouhá cca 2 km a je vhodná i pro kočárky a odrážedla.\nS sebou si vezměte dobrou náladu\, piknikovou deku\, svačinu\, buřty a něco na zub pro zvířátka (mrkev\, jablka). Čekají na nás drobné úkoly pro děti\, návštěva zvířátek\, opékání buřtů…
LOCATION:Rosice
END:VEVENT
END:VCALENDAR