BEGIN:VCALENDAR
VERSION:2.0
CALSCALE:GREGORIAN
PRODID:-//MyApp//Calendar 1.0//EN
BEGIN:VEVENT
METHOD:PUBLISH
UID:52416@regionalniportaly.cz
DTSTAMP:20260425T134041Z
DTSTART;VALUE=DATE:20250607
DTEND;VALUE=DATE:20250614
SUMMARY:RETREAT u moře v Omiši
DESCRIPTION:✨ RETREAT V CHORVATSKU 2025 ✨\n🌊 KDY? 7.6.–14.6. 2025🏝 KDE? Chorvatsko\, Omišská riviéra\, Duče💰 CENA: Ženy (včetně programu): 8.780 Kč\, muži (doprovod + program): 5.500 Kč\, děti do 12 let: 2.750 Kč\, děti do 3 let (bez lůžka): zdarma.\n💳 Platba ve 2 splátkách – Rezervační poplatek 1.500 Kč/osoba ihned\, doplatek 2 měsíce před odjezdem.\n🚍 Doprava:➡️ Autobus tam i zpět 2.800 Kč (přes Maďarsko)✈️ Možnost letět do Splitu (pomůžeme s transferem)🚗 Vlastní auto (parkování u apartmánu\, možnost spolujízdy)\n🌸 PROČ SE PŘIDAT?🌊 Týden jen pro tebe – zpomalíš\, vypneš\, odpočineš si od každodenního shonu. Žádné povinnosti\, žádné starosti\, jen ty\, moře a nádherná energie kolem.💛 Znovu se spojíš se sebou – díky jemným technikám\, které ti pomohou objevit\, co právě potřebuješ\, uvolníš napětí a načerpáš novou sílu.👭 Podpora a sdílení – připojíš se k inspirujícím ženám\, se kterými můžeš sdílet\, co tě těší i tíží\, nebo si jen užít krásné chvíle v ženském kruhu.🌿 Naprostý relax i aktivní chvíle – můžeš se ponořit do moře\, procházet po pláži\, cvičit\, meditovat\, tvořit nebo si jen užívat sluneční paprsky a šum vln.✨ Silný zážitek\, který tě posune – odjíždět budeš lehčí\, klidnější a nabitá novou energií a inspirací do života.\n📩 Máš otázky? Piš na info@katerinasilarova.cz\n \n💛 Dopřej si čas jen pro sebe – zasloužíš si ho! 💛
LOCATION:Rosice
END:VEVENT
END:VCALENDAR