BEGIN:VCALENDAR
VERSION:2.0
CALSCALE:GREGORIAN
PRODID:-//MyApp//Calendar 1.0//EN
BEGIN:VEVENT
METHOD:PUBLISH
UID:52367@regionalniportaly.cz
DTSTAMP:20260425T154825Z
DTSTART;VALUE=DATE:20250504
DTEND;VALUE=DATE:20250505
SUMMARY:Pozvánka na Rodinné Konstelace
DESCRIPTION:Milí přátelé\,přijměte pozvání na rodinné systemické konstelace s prvky NLP \, objevte sílu\, kterou konstelace přináší\, uvědomte si\, kde se nacházíte na vaší cestě k osobnímu uvědomění a odhalte skryté dynamiky\, které ovlivňují váš život.\nDatum a čas: 4.5.2025\, 13:00 - 19:00Místo: Rahnův dům\, Rosice u Brna (podrobnější informace ráda zašlu mailem - piště si o ně na info@katerinasilarova.cz).\nPřipojte se k nám na cestě k hlubšímu sebepoznání a objevte\, jak vaše osobní příběhy zapadají do širšího kontextu rodiny\, komunity a společnosti.Co vás čeká?5 – 6 konstelací\, které vám poskytnou jedinečný pohled na to\, jak fungujete v rámci širšího systému.Možnost postavit vlastní konstelaci\, ale i účast na konstelacích ostatních\, což přináší léčivý účinek a nové perspektivy.Prostor pro otevřenou diskusi a sdílení zkušeností v podpůrném prostředí.Konstelace nás vyzývají\, abychom se podívali hlouběji na to\, co nám brání žít život v plnosti. Přijďte se otevřít transformačnímu procesu\, který vám může přinést větší mír\, radost a autenticitu.Těším se na vás a na společnou cestu k uvědomění!Katy
LOCATION:Rosice
END:VEVENT
END:VCALENDAR