BEGIN:VCALENDAR
VERSION:2.0
CALSCALE:GREGORIAN
PRODID:-//MyApp//Calendar 1.0//EN
BEGIN:VEVENT
METHOD:PUBLISH
UID:52356@regionalniportaly.cz
DTSTAMP:20260425T122501Z
DTSTART;VALUE=DATE:20250830
DTEND;VALUE=DATE:20250831
SUMMARY:Rakfest 2025
DESCRIPTION:Sedmý ročník multižánrového open-air festivalu se uskuteční 30.8.2024 v Říčanech u Brna opět v areálu Marečkova louka. Tento rok se můžete těšit na opravdové mistry mezi muzikanty. Přijede legendární ROBERT KŘESŤAN &amp\; DRUHÁ TRÁVA\, virtuózní MINUS123MINUT a úžasní UKULELE ORCHESTRA JAKO BRNO.Jako vždy uslyšíte také vynikající kapely spjaté s naším mikroregionem Kahan. Letos to bude mimořádně pestré\, zazní bluegrass\, jazz\, rock\, pop\, folk\, alternativa...Budou připraveny oblíbené hudební workshopy i festivalová knihovna. Přijede také naše známá oblíbená HERNA SLÁDKOVNA. Chybět nebude skvělé jídlo a pití.
LOCATION:Říčany
END:VEVENT
END:VCALENDAR