BEGIN:VCALENDAR
VERSION:2.0
CALSCALE:GREGORIAN
PRODID:-//MyApp//Calendar 1.0//EN
BEGIN:VEVENT
METHOD:PUBLISH
UID:52350@regionalniportaly.cz
DTSTAMP:20260423T032804Z
DTSTART;VALUE=DATE:20250815
DTEND;VALUE=DATE:20250816
SUMMARY:Léto pod věží - Alband\, Mylions\, Metalinda
DESCRIPTION:Léto pod věží 2025 to je letní koncert v areálu těžní věže Simson ve znamení rocku.Děti do 12 let mají vstup zdarma!
LOCATION:Zbýšov
END:VEVENT
END:VCALENDAR