BEGIN:VCALENDAR
VERSION:2.0
CALSCALE:GREGORIAN
PRODID:-//MyApp//Calendar 1.0//EN
BEGIN:VEVENT
METHOD:PUBLISH
UID:52349@regionalniportaly.cz
DTSTAMP:20260423T055716Z
DTSTART;VALUE=DATE:20250321
DTEND;VALUE=DATE:20250322
SUMMARY:Vilém Tell
DESCRIPTION:Legendární Vilém Tell přichází v novém velkolepém filmovém zpracování.
LOCATION:Zbýšov
END:VEVENT
END:VCALENDAR