BEGIN:VCALENDAR
VERSION:2.0
CALSCALE:GREGORIAN
PRODID:-//MyApp//Calendar 1.0//EN
BEGIN:VEVENT
METHOD:PUBLISH
UID:52348@regionalniportaly.cz
DTSTAMP:20260423T045507Z
DTSTART;VALUE=DATE:20250321
DTEND;VALUE=DATE:20250322
SUMMARY:Sněhurka
DESCRIPTION:„Sněhurka“ od studia Disney je hraným zpracováním klasického animovaného filmu z&nbsp\;roku 1937. Toto kouzelné hudební dobrodružství zpracované na motivy ikonické pohádky bratří Grimmů nás vrací zpět k&nbsp\;nadčasovému příběhu s&nbsp\;oblíbenými postavami Stydlínem\, Prófou\, Šmudlou\, Rejpalem\, Štístkem\, Dřímalem a&nbsp\;Kejchalem. V&nbsp\;hlavních rolích uvidíme Rachel Zegler jako Sněhurku a&nbsp\;Gal Gadot jako její macechu\, zlou královnu. Ve filmu zazní zcela nové původní písně od Benje Paseka and Justina Paula.
LOCATION:Zbýšov
END:VEVENT
END:VCALENDAR