BEGIN:VCALENDAR
VERSION:2.0
CALSCALE:GREGORIAN
PRODID:-//MyApp//Calendar 1.0//EN
BEGIN:VEVENT
METHOD:PUBLISH
UID:52218@regionalniportaly.cz
DTSTAMP:20260425T154740Z
DTSTART;VALUE=DATE:20250406
DTEND;VALUE=DATE:20250407
SUMMARY:Dětská tvořivá dílna - Velikonoční
DESCRIPTION:Máte tvořivé dítě\, ale chybí vám nápady\, čas v každodenním shonu a chuť uklízet tu spoušť? Lektorka Aneta Hrazdilová\, se o všechno postará a vy si užijte společné kreativní sobotní dopoledne v Kašpárkovské herně. Vhodné pro rodiče s dětmi od 2 let.\nHerna bude otevřena od 9 hod. samotná tvorba začíná v 9:30.
LOCATION:Rosice
END:VEVENT
END:VCALENDAR