BEGIN:VCALENDAR
VERSION:2.0
CALSCALE:GREGORIAN
PRODID:-//MyApp//Calendar 1.0//EN
BEGIN:VEVENT
METHOD:PUBLISH
UID:52181@regionalniportaly.cz
DTSTAMP:20260423T055559Z
DTSTART;VALUE=DATE:20250314
DTEND;VALUE=DATE:20250315
SUMMARY:Útěk
DESCRIPTION:Desetiletý Saša utekl z domova\, když na něj padlo podezření\, že se svými kamarády zapálil stodolu. Na útěku je i Ruda\, který napadl vychovatele ve výchovném ústavu. Poprvé na sebe narazí v zahradním domku Sašova dědy a zřejmě by šel zase hned každý po svém\, kdyby nevyšlo najevo\, že požár má na svědomí Ruda. Saša se rozhodne\, že ho přinutí se přiznat\, aby on a jeho kamarádi nebyli nespravedlivě potrestáni. Jenže Ruda nemá v úmyslu jít s&nbsp\;pravdou ven. Chce pryč. Pryč z téhle země\, daleko od svého dosavadního života po dětských domovech a ústavech. A aby mu Saša tenhle plán nezhatil\, vezme si ho tak trochu jako „rukojmího“… Společná cesta dvou kluků\, kteří to v životě nemají jednoduché\, trvá sice jen dva dny\, oba ale jednou provždy změní.
LOCATION:Zbýšov
END:VEVENT
END:VCALENDAR