BEGIN:VCALENDAR
VERSION:2.0
CALSCALE:GREGORIAN
PRODID:-//MyApp//Calendar 1.0//EN
BEGIN:VEVENT
METHOD:PUBLISH
UID:52179@regionalniportaly.cz
DTSTAMP:20260423T055742Z
DTSTART;VALUE=DATE:20250314
DTEND;VALUE=DATE:20250315
SUMMARY:Agent Čuník
DESCRIPTION:Čuník se živí jako lovec odměn. Chytá uprchlá zvířata a vrací je jejich majitelům. Tentokrát ho však čeká největší výzva: vrátit tančící slonici Majdu šílenému showmanovi z Vegas za odměnu milion dolarů.
LOCATION:Zbýšov
END:VEVENT
END:VCALENDAR