BEGIN:VCALENDAR
VERSION:2.0
CALSCALE:GREGORIAN
PRODID:-//MyApp//Calendar 1.0//EN
BEGIN:VEVENT
METHOD:PUBLISH
UID:52027@regionalniportaly.cz
DTSTAMP:20260425T153327Z
DTSTART;VALUE=DATE:20250411
DTEND;VALUE=DATE:20250412
SUMMARY:Beseda s fyzioterapeutkou
DESCRIPTION:Praktická přednáška\, kde vám rehabilitační lékařka řekne a hlavně ukáže\, co dělat a co raději nedělat s miminky do 1 roku.
LOCATION:Rosice
END:VEVENT
END:VCALENDAR