BEGIN:VCALENDAR
VERSION:2.0
CALSCALE:GREGORIAN
PRODID:-//MyApp//Calendar 1.0//EN
BEGIN:VEVENT
METHOD:PUBLISH
UID:51970@regionalniportaly.cz
DTSTAMP:20260425T204934Z
DTSTART;VALUE=DATE:20250312
DTEND;VALUE=DATE:20250313
SUMMARY:Pubquiz v restauraci NA JEDNO
DESCRIPTION:Další Pubquiz u nás v restauraci NA JEDNO.\nDojdi si užít večer plný srandy a zábavy.\n \nBudeme se těšit!
LOCATION:Rosice
END:VEVENT
END:VCALENDAR