BEGIN:VCALENDAR
VERSION:2.0
CALSCALE:GREGORIAN
PRODID:-//MyApp//Calendar 1.0//EN
BEGIN:VEVENT
METHOD:PUBLISH
UID:51816@regionalniportaly.cz
DTSTAMP:20260423T045359Z
DTSTART;VALUE=DATE:20250306
DTEND;VALUE=DATE:20250307
SUMMARY:Jako z divokých vajec
DESCRIPTION:Dobrodružný příběh od tvůrců hitů Kung Fu Panda\, Úžasňákovi\, Toy Story 3 a Shrek.V Kastilském království se probouzejí temné síly. Pár dní po korunovaci nového krále a královny je uneseno sedm královských mláďat. Jejich jedinou nadějí je mladý doručovatel\, kozel Arthur\, který sní o kariéře světoznámého kadeřníka\, jenže teď se najednou stává nedobrovolným opatrovníkem malých ptáčátek. Pokud chce neposednou drobotinu na cestě domů udržet v bezpečí\, musí nejprve on sám dospět.
LOCATION:Zbýšov
END:VEVENT
END:VCALENDAR