BEGIN:VCALENDAR
VERSION:2.0
CALSCALE:GREGORIAN
PRODID:-//MyApp//Calendar 1.0//EN
BEGIN:VEVENT
METHOD:PUBLISH
UID:51791@regionalniportaly.cz
DTSTAMP:20260422T225427Z
DTSTART;VALUE=DATE:20251108
DTEND;VALUE=DATE:20251109
SUMMARY:Prohlídky podzemí hradu
DESCRIPTION:Prohlídky tajemného podzemí jednoho z nejstarších klášterních hradů u nás. Přeneste se s námi do bohaté a někdy temné historie\, kterou tento hrad poznal. Čekají Vás dvě patra podzemí\, různorodé temné chodby\, tajemství pokladu a únikových chodeb hradu.\nProhlídka trvá cca 40 minut. Doporučujeme pevnou obuv. \n 
LOCATION:Dolní Kounice
END:VEVENT
END:VCALENDAR