BEGIN:VCALENDAR
VERSION:2.0
CALSCALE:GREGORIAN
PRODID:-//MyApp//Calendar 1.0//EN
BEGIN:VEVENT
METHOD:PUBLISH
UID:51759@regionalniportaly.cz
DTSTAMP:20260425T192055Z
DTSTART;VALUE=DATE:20250312
DTEND;VALUE=DATE:20250313
SUMMARY:Pohádkové muzicírování
DESCRIPTION:Hudebně tvořivý program pro děti od 3 do 7 let.
LOCATION:Rosice
END:VEVENT
END:VCALENDAR