BEGIN:VCALENDAR
VERSION:2.0
CALSCALE:GREGORIAN
PRODID:-//MyApp//Calendar 1.0//EN
BEGIN:VEVENT
METHOD:PUBLISH
UID:51758@regionalniportaly.cz
DTSTAMP:20260425T192045Z
DTSTART;VALUE=DATE:20250331
DTEND;VALUE=DATE:20250401
SUMMARY:Screeningové vyšetření zraku u dětí
DESCRIPTION:Rychlé a šetrné vyšetření očí je vhodné pro děti od 6 měsíců.
LOCATION:Rosice
END:VEVENT
END:VCALENDAR