BEGIN:VCALENDAR
VERSION:2.0
CALSCALE:GREGORIAN
PRODID:-//MyApp//Calendar 1.0//EN
BEGIN:VEVENT
METHOD:PUBLISH
UID:51686@regionalniportaly.cz
DTSTAMP:20260423T073601Z
DTSTART;VALUE=DATE:20250302
DTEND;VALUE=DATE:20250630
SUMMARY:Jóga\, pilates a zdravá záda
DESCRIPTION:Lekce rehabilitačního charakteru. Na lekci je prováděno méně cviků. (Max 8). Dbáme na správnost cvičení\, opravuji. Říkáme si proč daný cvik děláme a co se při dlouhodobém provádění podaří. Řešíme celé tělo - od chodidla až po temeno. Na lekci si prosím vezměte podložku na cvičení.\nIdeální při poruchách pohybového aparátu - roztroušená skleróza\, bechtěrevova choroba\,hernie disku\, diastáza\, artritida\, artróza\, skolióza\, vadné držení těla\,...
LOCATION:Zbýšov
END:VEVENT
END:VCALENDAR