BEGIN:VCALENDAR
VERSION:2.0
CALSCALE:GREGORIAN
PRODID:-//MyApp//Calendar 1.0//EN
BEGIN:VEVENT
METHOD:PUBLISH
UID:51658@regionalniportaly.cz
DTSTAMP:20260425T224538Z
DTSTART;VALUE=DATE:20250320
DTEND;VALUE=DATE:20250321
SUMMARY:Beseda - Jak mě ovlivňuje moje rodina
DESCRIPTION:Co nám dává rodina a jak s tím pracovat?\nLektorka Kateřina Šilarová nám ukáže\, jak mohou pomoci rodinné systemické konstelace\, kterými provází už třetím rokem v Rosicích.
LOCATION:Rosice
END:VEVENT
END:VCALENDAR