BEGIN:VCALENDAR
VERSION:2.0
CALSCALE:GREGORIAN
PRODID:-//MyApp//Calendar 1.0//EN
BEGIN:VEVENT
METHOD:PUBLISH
UID:51631@regionalniportaly.cz
DTSTAMP:20260425T222754Z
DTSTART;VALUE=DATE:20250306
DTEND;VALUE=DATE:20250307
SUMMARY:Tvořivá dílna - upcyklace
DESCRIPTION:Upcyklace je proces přeměny\, kdy z něčeho nepotřebného vytvoříte něco nového.\n \nTvořivá dílna pro dospělé a starší samostatně tvořící děti. 
LOCATION:Rosice
END:VEVENT
END:VCALENDAR