BEGIN:VCALENDAR
VERSION:2.0
CALSCALE:GREGORIAN
PRODID:-//MyApp//Calendar 1.0//EN
BEGIN:VEVENT
METHOD:PUBLISH
UID:51580@regionalniportaly.cz
DTSTAMP:20260425T203110Z
DTSTART;VALUE=DATE:20250326
DTEND;VALUE=DATE:20250327
SUMMARY:ŽENSKÝ KRUH na téma Hodnota Mateřství
DESCRIPTION:Pro toto téma jsem se rozhodla po shlédnutí rozhovoru manželů Weberových – Síla Duše (odkaz na rozhovor najdeš na mém webu).\nA co vše může být zahrnuto? Je to velká šíře a ráda bych zahrnula do tohoto prostoru nejen matky\, ale také (ne)matky. \n(Ne)matky\, které se chystají být matkami nebo díky svému dětství se rozhodly mámami nebýt. Možná tělo z nějakého důvodu se rozhodlo jinak.Jaké slova přichází k tomuto tématu? Důležitost. Vděčnost za otevření. Posvátnost. Ocenění. Přijetí.Co je výživou k tomuto tématu? Mluvit o něm! Proto ženy přijďte otevřít toto hluboké téma.Co je vyjádřeno slovy má úplně jinou vibraci než co je „jen“ v myšlenkách nebo v představách.Pokud cítíte impuls k takovému setkání\, dejte mi vědět tím\, že se přihlásíte tlačítkem pod fotkou CHCI BÝT SOUČÁSTÍ.Maximální počet nás všech 10 žen.Udělejme společně krok vpřed k něčemu novému\, jinému\, K SOBĚ ❥.Moc moc se na vás ženy těším!Katy
LOCATION:Rosice
END:VEVENT
END:VCALENDAR