BEGIN:VCALENDAR
VERSION:2.0
CALSCALE:GREGORIAN
PRODID:-//MyApp//Calendar 1.0//EN
BEGIN:VEVENT
METHOD:PUBLISH
UID:51524@regionalniportaly.cz
DTSTAMP:20260426T000953Z
DTSTART;VALUE=DATE:20250301
DTEND;VALUE=DATE:20250302
SUMMARY:Rosické ostatky
DESCRIPTION:Rádi bychom Vás pozvali na Rosické ostatky\, které se budou konat v sobotu 1. 3.\nOd 12:00 na pivovaru ochutnáte zabijačkovou polévku\, tlačenku\, škvarky\, klobásky z udírny a svařáček.\nMůžete posedět a počkat na začátek průvodu maškar\, který vyjde ve 14:00. Budeme velmi rádi\, pokud se přidáte. Samozřejmě se nemusíte bát využít své kreativity a vzít si vlastní masku.\nPrůvod půjde od pivovaru přes ulici Pod Zahrádkami směrem na Palackého náměstí\, zde nás čeká malá zastávka.\nNásledně se půjde na zámek do Zámeckého kulturního centra\, kde bude od 16:00 hrát cimbálová muzika Omičan.\nPřed 21:00 společně pochováme nebožku basu a následovat bude masopustní zábava\, kterou nás bude doprovázet DJ Enkidu.\nVstup na cimbálovou muziku je dobrovolný\, na masopustní zábavu 100 Kč.\nMasky mají vstup zdarma.\nPředprodej lístků a místenek v KIC Rosice.\nOstatky jsou pořádány ve spolupráci s městem Rosice.\nSrdečně zve Rosická chasa.
LOCATION:Rosice
END:VEVENT
END:VCALENDAR