BEGIN:VCALENDAR
VERSION:2.0
CALSCALE:GREGORIAN
PRODID:-//MyApp//Calendar 1.0//EN
BEGIN:VEVENT
METHOD:PUBLISH
UID:51521@regionalniportaly.cz
DTSTAMP:20260425T192035Z
DTSTART;VALUE=DATE:20250315
DTEND;VALUE=DATE:20250316
SUMMARY:Matlohrátky - jarní
DESCRIPTION:Trochu jiné hraní v herně. 
LOCATION:Rosice
END:VEVENT
END:VCALENDAR