BEGIN:VCALENDAR
VERSION:2.0
CALSCALE:GREGORIAN
PRODID:-//MyApp//Calendar 1.0//EN
BEGIN:VEVENT
METHOD:PUBLISH
UID:51519@regionalniportaly.cz
DTSTAMP:20260425T192007Z
DTSTART;VALUE=DATE:20250315
DTEND;VALUE=DATE:20250316
SUMMARY:Standova tvořivá dílna - budka
DESCRIPTION:Děti s rodiči si vyrobí budku pro ptáky\, kterou mohou zavěsit na Kašpárkovské zahradě nebo si ji odnést domů. 
LOCATION:Rosice
END:VEVENT
END:VCALENDAR