BEGIN:VCALENDAR
VERSION:2.0
CALSCALE:GREGORIAN
PRODID:-//MyApp//Calendar 1.0//EN
BEGIN:VEVENT
METHOD:PUBLISH
UID:51518@regionalniportaly.cz
DTSTAMP:20260425T222744Z
DTSTART;VALUE=DATE:20250301
DTEND;VALUE=DATE:20250302
SUMMARY:Dětská dílna - jarní
DESCRIPTION:Díky sobotní dětské dílně si trochu jara přinesete domů.\nVhodné pro školkové děti (od 2 let) s doprovodem.
LOCATION:Rosice
END:VEVENT
END:VCALENDAR