BEGIN:VCALENDAR
VERSION:2.0
CALSCALE:GREGORIAN
PRODID:-//MyApp//Calendar 1.0//EN
BEGIN:VEVENT
METHOD:PUBLISH
UID:51504@regionalniportaly.cz
DTSTAMP:20260425T191943Z
DTSTART;VALUE=DATE:20250329
DTEND;VALUE=DATE:20250330
SUMMARY:WORKSHOP Cesta k vnitřnímu klidu: Objev své emoce\, jejich Mapu. Jak vše komunikovat?
DESCRIPTION:KDY? 29. 3. 2025 (sobota)KDE? Rahnův dům\, Palackého náměstí 46\, Rosice u BrnaČAS: 10:00 – 18:00CENA: 1 500 KčKdo řídí tvé emoce? Jaké jsou tvé skryté programy (tajné vzorce)? Jak tě ovlivňují v tvém každodenním životě?Jaká je tvá emoční inteligence?Jak zvládat emoční vlny a nezůstávat v nich příliš dlouho?Jak uvolnit nahromaděné emoce a pocítit svobodu\, lehkost\, jasnost a možnost se rozhodnout?Jak ti v tomto všem pomůže mapa svých emocí?A jak vše komunikovat správným způsobem?Uděláme si ceremoniální kakao a rituál.Vše zakončeno transem k ukotvení informací a jejich propojení s nevědomou částí mozku.Znát své emoce a umět s nimi pracovat je základ k pochopení vaší každodennosti.Budete mít hodinku pauzu na oběd. 3 minuty od místa konání je pizzerie. Po celý den bude možnost drobného občerstvení (ořechy\, ovoce\, zelenina\,..). Uděláme si to hezké!Přijď a všechno ti vysvětlím!Maximální počet 10 účastníků.Na všechny se moc těším!Katypřihlášení tudy:https://katerinasilarova.cz/objednavkovy-formular/
LOCATION:Rosice
END:VEVENT
END:VCALENDAR