BEGIN:VCALENDAR
VERSION:2.0
CALSCALE:GREGORIAN
PRODID:-//MyApp//Calendar 1.0//EN
BEGIN:VEVENT
METHOD:PUBLISH
UID:51296@regionalniportaly.cz
DTSTAMP:20260425T210004Z
DTSTART;VALUE=DATE:20250226
DTEND;VALUE=DATE:20250227
SUMMARY:PubQuiz v restauraci NA JEDNO
DESCRIPTION:Ve středu 26.2.2025 v 18:30 PubQuiz v restauraci NA JEDNO.\nVstupné 80 kč.  
LOCATION:Rosice
END:VEVENT
END:VCALENDAR