BEGIN:VCALENDAR
VERSION:2.0
CALSCALE:GREGORIAN
PRODID:-//MyApp//Calendar 1.0//EN
BEGIN:VEVENT
METHOD:PUBLISH
UID:51276@regionalniportaly.cz
DTSTAMP:20260426T001013Z
DTSTART;VALUE=DATE:20250220
DTEND;VALUE=DATE:20250221
SUMMARY:Karnevalové zpívánky
DESCRIPTION:
LOCATION:Rosice
END:VEVENT
END:VCALENDAR